BEGIN:VCALENDAR
VERSION:2.0
PRODID:-//Harmony Of Praise Christian Ministry - ECPv5.2.1.1//NONSGML v1.0//EN
CALSCALE:GREGORIAN
METHOD:PUBLISH
X-WR-CALNAME:Harmony Of Praise Christian Ministry
X-ORIGINAL-URL:https://www.harmonyofpraise.org
X-WR-CALDESC:Events for Harmony Of Praise Christian Ministry
BEGIN:VTIMEZONE
TZID:UTC
BEGIN:STANDARD
TZOFFSETFROM:+0000
TZOFFSETTO:+0000
TZNAME:UTC
DTSTART:20170101T000000
END:STANDARD
END:VTIMEZONE
BEGIN:VEVENT
DTSTART;TZID=UTC:20170819T000000
DTEND;TZID=UTC:20170819T235959
DTSTAMP:20260421T123725
CREATED:20170729T150704Z
LAST-MODIFIED:20230522T020349Z
UID:1556-1503100800-1503187199@www.harmonyofpraise.org
SUMMARY:Harmony of Praise 1st Anniversary & Fundraising Luncheon @ Crowne Plaza\, White Plains\, NY
DESCRIPTION:Come help the destitute children \nliving in the Garbage dumpsite of \nMandaue City\, Cebu.\n\n	\n		Share This Post\, Choose Your Platform!
URL:https://www.harmonyofpraise.org/event/fundraising-luncheon/
LOCATION:CROWNE PLAZA HOTEL  66 HALE AVENUE\, WHITE PLAINS\, NY\, 66 HALE AVENUE\, White Plains\, NY\, 10601\, United States
CATEGORIES:2017,Fundraiser
ATTACH;FMTTYPE=image/jpeg:https://www.harmonyofpraise.org/wp-content/uploads/2017/05/Image-2.jpg
END:VEVENT
END:VCALENDAR