BEGIN:VCALENDAR
VERSION:2.0
PRODID:-//Harmony Of Praise Christian Ministry - ECPv5.2.1.1//NONSGML v1.0//EN
CALSCALE:GREGORIAN
METHOD:PUBLISH
X-WR-CALNAME:Harmony Of Praise Christian Ministry
X-ORIGINAL-URL:https://www.harmonyofpraise.org
X-WR-CALDESC:Events for Harmony Of Praise Christian Ministry
BEGIN:VTIMEZONE
TZID:UTC
BEGIN:STANDARD
TZOFFSETFROM:+0000
TZOFFSETTO:+0000
TZNAME:UTC
DTSTART:20190101T000000
END:STANDARD
END:VTIMEZONE
BEGIN:VEVENT
DTSTART;TZID=UTC:20191116T000000
DTEND;TZID=UTC:20191116T235959
DTSTAMP:20260421T103338
CREATED:20230522T013133Z
LAST-MODIFIED:20230522T020119Z
UID:3953-1573862400-1573948799@www.harmonyofpraise.org
SUMMARY:Harmony of Praise at Grace Assembly of God\, Bel-Air\, Maryland
DESCRIPTION:
URL:https://www.harmonyofpraise.org/event/harmony-of-praise-at-grace-assembly-of-god-bel-air-maryland/
CATEGORIES:2019
END:VEVENT
END:VCALENDAR