BEGIN:VCALENDAR
VERSION:2.0
PRODID:-//Harmony Of Praise Christian Ministry - ECPv5.2.1.1//NONSGML v1.0//EN
CALSCALE:GREGORIAN
METHOD:PUBLISH
X-WR-CALNAME:Harmony Of Praise Christian Ministry
X-ORIGINAL-URL:https://www.harmonyofpraise.org
X-WR-CALDESC:Events for Harmony Of Praise Christian Ministry
BEGIN:VTIMEZONE
TZID:UTC
BEGIN:STANDARD
TZOFFSETFROM:+0000
TZOFFSETTO:+0000
TZNAME:UTC
DTSTART:20170101T000000
END:STANDARD
END:VTIMEZONE
BEGIN:VEVENT
DTSTART;VALUE=DATE:20170820
DTEND;VALUE=DATE:20170821
DTSTAMP:20260421T123048
CREATED:20170803T022141Z
LAST-MODIFIED:20230522T010945Z
UID:1605-1503187200-1503273599@www.harmonyofpraise.org
SUMMARY:Harmony Of Praise at The Elmhurst Care Center\, Queens\, NY
DESCRIPTION:SPEAKER: Sam Rivera
URL:https://www.harmonyofpraise.org/event/harmony-of-praise-ministering-at-the-elmhurst-care-center/
CATEGORIES:2017
END:VEVENT
END:VCALENDAR