BEGIN:VCALENDAR
VERSION:2.0
PRODID:-//Harmony Of Praise Christian Ministry - ECPv5.2.1.1//NONSGML v1.0//EN
CALSCALE:GREGORIAN
METHOD:PUBLISH
X-WR-CALNAME:Harmony Of Praise Christian Ministry
X-ORIGINAL-URL:https://www.harmonyofpraise.org
X-WR-CALDESC:Events for Harmony Of Praise Christian Ministry
BEGIN:VTIMEZONE
TZID:UTC
BEGIN:STANDARD
TZOFFSETFROM:+0000
TZOFFSETTO:+0000
TZNAME:UTC
DTSTART:20170101T000000
END:STANDARD
END:VTIMEZONE
BEGIN:VEVENT
DTSTART;VALUE=DATE:20170924
DTEND;VALUE=DATE:20170925
DTSTAMP:20260421T114735
CREATED:20170803T022418Z
LAST-MODIFIED:20230522T010914Z
UID:1607-1506211200-1506297599@www.harmonyofpraise.org
SUMMARY:Harmony of Praise at Union of Pastors and Ministers of New York - Brooklyn
DESCRIPTION:
URL:https://www.harmonyofpraise.org/event/harmony-of-praise-ministering-at-union-of-pastors-and-ministers-of-new-york-brooklyn/
CATEGORIES:2017
END:VEVENT
END:VCALENDAR