BEGIN:VCALENDAR
VERSION:2.0
PRODID:-//Harmony Of Praise Christian Ministry - ECPv5.2.1.1//NONSGML v1.0//EN
CALSCALE:GREGORIAN
METHOD:PUBLISH
X-WR-CALNAME:Harmony Of Praise Christian Ministry
X-ORIGINAL-URL:https://www.harmonyofpraise.org
X-WR-CALDESC:Events for Harmony Of Praise Christian Ministry
BEGIN:VTIMEZONE
TZID:UTC
BEGIN:STANDARD
TZOFFSETFROM:+0000
TZOFFSETTO:+0000
TZNAME:UTC
DTSTART:20170101T000000
END:STANDARD
END:VTIMEZONE
BEGIN:VEVENT
DTSTART;VALUE=DATE:20171015
DTEND;VALUE=DATE:20171016
DTSTAMP:20260421T101537
CREATED:20170803T024048Z
LAST-MODIFIED:20230522T012738Z
UID:1618-1508025600-1508111999@www.harmonyofpraise.org
SUMMARY:Harmony of Praise Music Team at OBCI Queens\, NY
DESCRIPTION:
URL:https://www.harmonyofpraise.org/event/harmony-of-praise-music-team-ministering-at-obci/
CATEGORIES:2017,Praise & Worship
END:VEVENT
END:VCALENDAR