BEGIN:VCALENDAR
VERSION:2.0
PRODID:-//Harmony Of Praise Christian Ministry - ECPv5.2.1.1//NONSGML v1.0//EN
CALSCALE:GREGORIAN
METHOD:PUBLISH
X-WR-CALNAME:Harmony Of Praise Christian Ministry
X-ORIGINAL-URL:https://www.harmonyofpraise.org
X-WR-CALDESC:Events for Harmony Of Praise Christian Ministry
BEGIN:VTIMEZONE
TZID:UTC
BEGIN:STANDARD
TZOFFSETFROM:+0000
TZOFFSETTO:+0000
TZNAME:UTC
DTSTART:20170101T000000
END:STANDARD
END:VTIMEZONE
BEGIN:VEVENT
DTSTART;TZID=UTC:20170521T000000
DTEND;TZID=UTC:20170521T235959
DTSTAMP:20260421T133613
CREATED:20170513T202918Z
LAST-MODIFIED:20230522T020318Z
UID:1443-1495324800-1495411199@www.harmonyofpraise.org
SUMMARY:Harmony of Praise at New Life Worship Center\, New Jersey
DESCRIPTION:We will all be ministering at the service and Priscilla Avila will bring the Word to New Life Worship Congregation. The members of our HOP music team will minister with special music and some of our team will share their Mission testimony as well.
URL:https://www.harmonyofpraise.org/event/pastor-mendez-church-new-life-worship-center/
CATEGORIES:2017
END:VEVENT
END:VCALENDAR